BEGIN:VCALENDAR
VERSION:2.0
PRODID:-//Graines de botaniste - ECPv6.15.15//NONSGML v1.0//EN
CALSCALE:GREGORIAN
METHOD:PUBLISH
X-WR-CALNAME:Graines de botaniste
X-ORIGINAL-URL:https://www.grainesdebotaniste.fr
X-WR-CALDESC:Évènements pour Graines de botaniste
REFRESH-INTERVAL;VALUE=DURATION:PT1H
X-Robots-Tag:noindex
X-PUBLISHED-TTL:PT1H
BEGIN:VTIMEZONE
TZID:Europe/Paris
BEGIN:DAYLIGHT
TZOFFSETFROM:+0100
TZOFFSETTO:+0200
TZNAME:CEST
DTSTART:20230326T010000
END:DAYLIGHT
BEGIN:STANDARD
TZOFFSETFROM:+0200
TZOFFSETTO:+0100
TZNAME:CET
DTSTART:20231029T010000
END:STANDARD
BEGIN:DAYLIGHT
TZOFFSETFROM:+0100
TZOFFSETTO:+0200
TZNAME:CEST
DTSTART:20240331T010000
END:DAYLIGHT
BEGIN:STANDARD
TZOFFSETFROM:+0200
TZOFFSETTO:+0100
TZNAME:CET
DTSTART:20241027T010000
END:STANDARD
BEGIN:DAYLIGHT
TZOFFSETFROM:+0100
TZOFFSETTO:+0200
TZNAME:CEST
DTSTART:20250330T010000
END:DAYLIGHT
BEGIN:STANDARD
TZOFFSETFROM:+0200
TZOFFSETTO:+0100
TZNAME:CET
DTSTART:20251026T010000
END:STANDARD
END:VTIMEZONE
BEGIN:VEVENT
DTSTART;TZID=Europe/Paris:20240830T093000
DTEND;TZID=Europe/Paris:20240830T114500
DTSTAMP:20260422T174821
CREATED:20240529T222244Z
LAST-MODIFIED:20240730T174925Z
UID:2913-1725010200-1725018300@www.grainesdebotaniste.fr
SUMMARY:Carte à planter - Paris 6
DESCRIPTION:2 dates chez Otipi St Placide : vendredi 30/09 de 9h30 à 11h45. \nNouveau partenariat : Graines de botaniste s’associe à Otipi pour vous proposer un nouveau format d’atelier dédié aux maternelles. \nC’est la fin des vacances ! \nGraines de botaniste vous propose de réaliser une jolie carte à planter\, créée à partir de feuilles de magazines. Les enfants apprendront la fabrication du papier tout en s’amusant\, et pourront décorer et personnaliser leur jolie carte à planter. \nUne fois en terre\, une mini prairie fleurie prendra place dans vos pots et jardinières. \n  \n \nOtipi propose des stages de vacances à la journée ou à la semaine. Les ateliers sont suivis d’une session jeux de société. \nRéservations directement sur le site d’Otipi.
URL:https://www.grainesdebotaniste.fr/atelier/carte-a-planter-paris-6/
LOCATION:Otipi Breteuil\, 52 avenue de saxe\, Paris\, 75015
CATEGORIES:Carte à planter,Vacances
ATTACH;FMTTYPE=image/jpeg:https://www.grainesdebotaniste.fr/wp-content/uploads/2024/05/Carte-a-planter.jpg
END:VEVENT
BEGIN:VEVENT
DTSTART;TZID=Europe/Paris:20240830T140000
DTEND;TZID=Europe/Paris:20240830T160000
DTSTAMP:20260422T174821
CREATED:20240529T224051Z
LAST-MODIFIED:20240730T175004Z
UID:2921-1725026400-1725033600@www.grainesdebotaniste.fr
SUMMARY:Mini stage terrarium - Paris 15
DESCRIPTION:Otipi St Placide : vendredi/30 de 14h à 16h. \nNouveau partenariat : Graines de botaniste s’associe à Otipi pour vous proposer un atelier terrarium dédié aux 5-10 ans. \nUn super programme pour ce début de vacances ! \nGraines de botaniste vous propose de réaliser un joli terrarium à partir de bocaux recyclés\, et de plantes locales. Les enfants découvriront comment ces contenants fermés réunissent toutes les conditions pour que les plantes s’épanouissent. \nChaque terrarium sera personnalisé par de petites décorations. \nEntretien minimal et arrosage 3 fois par an (tout au plus !) \n \nOtipi propose des stages de vacances à la journée ou à la semaine. L’atelier sera suivi d’une session jeux de société. \nRéservations directement sur le site d’Otipi.
URL:https://www.grainesdebotaniste.fr/atelier/mini-stage-terrarium-paris-15/
LOCATION:Otipi St Placide\, 12 rue Notre Dame des Champs\, Paris\, 75006
CATEGORIES:Terrarium enfant,Vacances
ATTACH;FMTTYPE=image/jpeg:https://www.grainesdebotaniste.fr/wp-content/uploads/2024/03/Terrarium-printemps-GdB.jpg
END:VEVENT
END:VCALENDAR