BEGIN:VCALENDAR
VERSION:2.0
PRODID:-//Graines de botaniste - ECPv6.15.15//NONSGML v1.0//EN
CALSCALE:GREGORIAN
METHOD:PUBLISH
X-WR-CALNAME:Graines de botaniste
X-ORIGINAL-URL:https://www.grainesdebotaniste.fr
X-WR-CALDESC:Évènements pour Graines de botaniste
REFRESH-INTERVAL;VALUE=DURATION:PT1H
X-Robots-Tag:noindex
X-PUBLISHED-TTL:PT1H
BEGIN:VTIMEZONE
TZID:Europe/Paris
BEGIN:DAYLIGHT
TZOFFSETFROM:+0100
TZOFFSETTO:+0200
TZNAME:CEST
DTSTART:20230326T010000
END:DAYLIGHT
BEGIN:STANDARD
TZOFFSETFROM:+0200
TZOFFSETTO:+0100
TZNAME:CET
DTSTART:20231029T010000
END:STANDARD
BEGIN:DAYLIGHT
TZOFFSETFROM:+0100
TZOFFSETTO:+0200
TZNAME:CEST
DTSTART:20240331T010000
END:DAYLIGHT
BEGIN:STANDARD
TZOFFSETFROM:+0200
TZOFFSETTO:+0100
TZNAME:CET
DTSTART:20241027T010000
END:STANDARD
BEGIN:DAYLIGHT
TZOFFSETFROM:+0100
TZOFFSETTO:+0200
TZNAME:CEST
DTSTART:20250330T010000
END:DAYLIGHT
BEGIN:STANDARD
TZOFFSETFROM:+0200
TZOFFSETTO:+0100
TZNAME:CET
DTSTART:20251026T010000
END:STANDARD
END:VTIMEZONE
BEGIN:VEVENT
DTSTART;TZID=Europe/Paris:20240703T160000
DTEND;TZID=Europe/Paris:20240703T173000
DTSTAMP:20260422T125248
CREATED:20240621T205942Z
LAST-MODIFIED:20240621T210126Z
UID:2942-1720022400-1720027800@www.grainesdebotaniste.fr
SUMMARY:Atelier terrarium parent-enfant bocaux recyclés - Paris 11
DESCRIPTION:Nouveau lieu\, nouveau partenariat : rendez-vous à l’Etagère café\, Paris 11e. \nCe nouveau café cosy\, dédié aux ateliers créatifs\, permettra aux duos parent-enfant d’exprimer pleinement leur créativité. \nComme d’habitude\, une partie botanique\, pour (re)découvrir tous les besoins d’une plante\, et une partie mains dans la terre\, pour créer votre terrarium ensemble. Moment convivial garanti ! \nNous utiliserons des bocaux recyclés\, que vous aurez loisir de personnaliser\, du terrarium design au couvercle. \nEt aucune crainte : un terrarium est quasi autonome et ne nécessite que trois arrosages par an ! Vous pourrez partir en vacances tranquille. \nUne boisson chacun incluse pour chacun. \nPour les enfants à partir de 5 ans. L’organisation se réserve le droit d’annuler l’atelier en dessous de 3 participants
URL:https://www.grainesdebotaniste.fr/atelier/atelier-terrarium-parent-enfant-bocaux-recycles/
LOCATION:Etagère café\, 51 rue Léon Frot\, Paris\, 75011
CATEGORIES:Ateliers Parent Enfant,Terrarium en famille,Vacances
ATTACH;FMTTYPE=image/jpeg:https://www.grainesdebotaniste.fr/wp-content/uploads/2024/06/Atelier-terrarium-parent-enfant-etagere-cafe.jpg
END:VEVENT
END:VCALENDAR