BEGIN:VCALENDAR
VERSION:2.0
PRODID:-//Graines de botaniste - ECPv6.15.20//NONSGML v1.0//EN
CALSCALE:GREGORIAN
METHOD:PUBLISH
X-WR-CALNAME:Graines de botaniste
X-ORIGINAL-URL:https://www.grainesdebotaniste.fr
X-WR-CALDESC:Évènements pour Graines de botaniste
REFRESH-INTERVAL;VALUE=DURATION:PT1H
X-Robots-Tag:noindex
X-PUBLISHED-TTL:PT1H
BEGIN:VTIMEZONE
TZID:Europe/Paris
BEGIN:DAYLIGHT
TZOFFSETFROM:+0100
TZOFFSETTO:+0200
TZNAME:CEST
DTSTART:20250330T010000
END:DAYLIGHT
BEGIN:STANDARD
TZOFFSETFROM:+0200
TZOFFSETTO:+0100
TZNAME:CET
DTSTART:20251026T010000
END:STANDARD
BEGIN:DAYLIGHT
TZOFFSETFROM:+0100
TZOFFSETTO:+0200
TZNAME:CEST
DTSTART:20260329T010000
END:DAYLIGHT
BEGIN:STANDARD
TZOFFSETFROM:+0200
TZOFFSETTO:+0100
TZNAME:CET
DTSTART:20261025T010000
END:STANDARD
BEGIN:DAYLIGHT
TZOFFSETFROM:+0100
TZOFFSETTO:+0200
TZNAME:CEST
DTSTART:20270328T010000
END:DAYLIGHT
BEGIN:STANDARD
TZOFFSETFROM:+0200
TZOFFSETTO:+0100
TZNAME:CET
DTSTART:20271031T010000
END:STANDARD
END:VTIMEZONE
BEGIN:VEVENT
DTSTART;TZID=Europe/Paris:20260208T103000
DTEND;TZID=Europe/Paris:20260426T113000
DTSTAMP:20260426T051401
CREATED:20240330T230843Z
LAST-MODIFIED:20260202T203024Z
UID:2864-1770546600-1777203000@www.grainesdebotaniste.fr
SUMMARY:Atelier Cloche fleurie en famille - Wecandoo et Graines de botaniste
DESCRIPTION:PLUSIEURS DATES DISPONIBLES SUR LE CALENDRIER WECANDOO \nDonnez une 2ème vie à un bocal en verre en réalisant une jolie cloche de fleurs séchées \nNouvel atelier chez Graines de botaniste ! \nParticipez à un atelier ludique d’une heure\, rythmé par des notions de botanique ludique. \nNous commencerons par un jeu autour des fleurs de saison. Puis nous apprendrons comment réaliser une jolie cloche de fleurs séchées. \nLes fleurs locales seront de la partie ! \nNe tardez plus pour réserver ce moment convivial de partage entre parents et enfants. \nBénéficiez de 10% de réduction avec le code OLLA12 💚 \nPssst : Collation incluse\, miam. \nAtelier parent-enfant\, pour les enfants entre 5 et 12 ans. \nLa session sera annulée en dessous de 2 participants \n10 participants maximum (10 enfants+10 parents) \nLes conditions de remboursement de Wecandoo s’appliquent. \nPrévoir d’arriver 5 minutes avant l’atelier \n  \nRéserver
URL:https://www.grainesdebotaniste.fr/atelier/atelier-cloche-fleurie-en-famille-wecandoo-et-graines-de-botaniste-upcycling/
LOCATION:WoMa\, 15bis Rue Léon Giraud\, Paris\, 75019\, France
CATEGORIES:Ateliers Parent Enfant,Fleurs séchées
ATTACH;FMTTYPE=image/jpeg:https://www.grainesdebotaniste.fr/wp-content/uploads/2024/09/Cloche-fleurie-Graines-de-botaniste.jpg
END:VEVENT
BEGIN:VEVENT
DTSTART;TZID=Europe/Paris:20260208T143000
DTEND;TZID=Europe/Paris:20260704T160000
DTSTAMP:20260426T051401
CREATED:20240302T175108Z
LAST-MODIFIED:20260202T203059Z
UID:2408-1770561000-1783180800@www.grainesdebotaniste.fr
SUMMARY:Atelier terrarium en famille
DESCRIPTION:SESSIONS DE RENTREE DESORMAIS DISPONIBLES SUR LE MODULE DE RESERVATION \nParticipez avec votre enfant à un atelier de création végétale d’une heure et demie\, rythmé par des notions de botanique ludique. \nNous vous donnerons toutes les clés pour dompter vos plantes tropicales.\nAinsi\, vous créerez votre mini-jungle d’intérieur personnalisée à quatre mains\, tout en redécouvrant les basiques de la botanique. Nous vous expliquerons pourquoi le terrarium\, ce bocal en verre fermé dans lequel poussent des plantes tropicales\, est un écosystème quasi autonome. \nL’occasion de créer un terrarium à offrir ou à s’offrir. \nNe tardez plus pour réserver ce moment convivial de partage en famille. \nPetite touche Graines de botaniste : le goûter est inclus. \nAtelier parent-enfant\, pour les enfants entre 5 et 12 ans. \nSession maintenue au dessus de 2 participants.  \n10 participants maximum (10 enfants+10 parents) \nLes conditions de remboursement de Wecandoo s’appliquent. \nPrévoir d’arriver 5 minutes avant l’atelier \n  \n\nRéserver
URL:https://www.grainesdebotaniste.fr/atelier/cree-ton-terrarium-en-famille-atelier-parent-enfant/
LOCATION:WoMa\, 15bis Rue Léon Giraud\, Paris\, 75019\, France
CATEGORIES:Ateliers Parent Enfant,Terrarium en famille
ATTACH;FMTTYPE=image/jpeg:https://www.grainesdebotaniste.fr/wp-content/uploads/2024/09/Atelier-terrarium-parent-enfant-janvier.jpg
END:VEVENT
END:VCALENDAR