BEGIN:VCALENDAR
VERSION:2.0
PRODID:-//Graines de botaniste - ECPv6.15.15//NONSGML v1.0//EN
CALSCALE:GREGORIAN
METHOD:PUBLISH
X-ORIGINAL-URL:https://www.grainesdebotaniste.fr
X-WR-CALDESC:Évènements pour Graines de botaniste
REFRESH-INTERVAL;VALUE=DURATION:PT1H
X-Robots-Tag:noindex
X-PUBLISHED-TTL:PT1H
BEGIN:VTIMEZONE
TZID:Europe/Paris
BEGIN:DAYLIGHT
TZOFFSETFROM:+0100
TZOFFSETTO:+0200
TZNAME:CEST
DTSTART:20230326T010000
END:DAYLIGHT
BEGIN:STANDARD
TZOFFSETFROM:+0200
TZOFFSETTO:+0100
TZNAME:CET
DTSTART:20231029T010000
END:STANDARD
BEGIN:DAYLIGHT
TZOFFSETFROM:+0100
TZOFFSETTO:+0200
TZNAME:CEST
DTSTART:20240331T010000
END:DAYLIGHT
BEGIN:STANDARD
TZOFFSETFROM:+0200
TZOFFSETTO:+0100
TZNAME:CET
DTSTART:20241027T010000
END:STANDARD
BEGIN:DAYLIGHT
TZOFFSETFROM:+0100
TZOFFSETTO:+0200
TZNAME:CEST
DTSTART:20250330T010000
END:DAYLIGHT
BEGIN:STANDARD
TZOFFSETFROM:+0200
TZOFFSETTO:+0100
TZNAME:CET
DTSTART:20251026T010000
END:STANDARD
END:VTIMEZONE
BEGIN:VEVENT
DTSTART;TZID=Europe/Paris:20240224T141500
DTEND;TZID=Europe/Paris:20240224T151500
DTSTAMP:20260423T041926
CREATED:20240221T152612Z
LAST-MODIFIED:20240221T205052Z
UID:2307-1708784100-1708787700@www.grainesdebotaniste.fr
SUMMARY:Atelier himmeli avec tillandsia parent-enfant
DESCRIPTION:NOUVEL ATELIER PENDANT LES VACANCES : 15€ le duo\, pour un moment de partage avec votre enfant. \nParticipez à un atelier de botanique ludique avec votre enfant et : \n\n(re)découvrez les plantes épiphytes\, ces plantes qui ne poussent pas dans le sol\nfabriquez un joli himmeli\, décoration provenant des pays scandinaves\, réalisé à partir de tiges de bambou\n\nUn super travail d’équipe et une jolie récompense à la clé ! \nEt toujours\, dans le respect de nos valeurs : production Française et réemploi. \nPssst : collation incluse\, miam. \nAtelier parent-enfant\, pour les enfants entre 5 et 12 ans.\n10 participants maximum (10 enfants+10 parents) \nSi toutefois vous deviez annuler : nous n’effectuons pas de remboursement\, mais vous bénéficierez d’un avoir pour un prochain atelier. \nPrévoir d’arriver 5 minutes avant l’atelier
URL:https://www.grainesdebotaniste.fr/atelier/atelier-himmeli-avec-tillandsia-parent-enfant/
LOCATION:WoMa\, 15bis Rue Léon Giraud\, Paris\, 75019\, France
CATEGORIES:Ateliers Parent Enfant
END:VEVENT
END:VCALENDAR